BEGIN:VCALENDAR
VERSION:2.0
PRODID:-//The Noble Quilter - ECPv6.15.18//NONSGML v1.0//EN
CALSCALE:GREGORIAN
METHOD:PUBLISH
X-ORIGINAL-URL:https://thenoblequilter.com
X-WR-CALDESC:Events for The Noble Quilter
REFRESH-INTERVAL;VALUE=DURATION:PT1H
X-Robots-Tag:noindex
X-PUBLISHED-TTL:PT1H
BEGIN:VTIMEZONE
TZID:America/Chicago
BEGIN:DAYLIGHT
TZOFFSETFROM:-0600
TZOFFSETTO:-0500
TZNAME:CDT
DTSTART:20200308T080000
END:DAYLIGHT
BEGIN:STANDARD
TZOFFSETFROM:-0500
TZOFFSETTO:-0600
TZNAME:CST
DTSTART:20201101T070000
END:STANDARD
BEGIN:DAYLIGHT
TZOFFSETFROM:-0600
TZOFFSETTO:-0500
TZNAME:CDT
DTSTART:20210314T080000
END:DAYLIGHT
BEGIN:STANDARD
TZOFFSETFROM:-0500
TZOFFSETTO:-0600
TZNAME:CST
DTSTART:20211107T070000
END:STANDARD
BEGIN:DAYLIGHT
TZOFFSETFROM:-0600
TZOFFSETTO:-0500
TZNAME:CDT
DTSTART:20220313T080000
END:DAYLIGHT
BEGIN:STANDARD
TZOFFSETFROM:-0500
TZOFFSETTO:-0600
TZNAME:CST
DTSTART:20221106T070000
END:STANDARD
BEGIN:DAYLIGHT
TZOFFSETFROM:-0600
TZOFFSETTO:-0500
TZNAME:CDT
DTSTART:20230312T080000
END:DAYLIGHT
BEGIN:STANDARD
TZOFFSETFROM:-0500
TZOFFSETTO:-0600
TZNAME:CST
DTSTART:20231105T070000
END:STANDARD
END:VTIMEZONE
BEGIN:VEVENT
DTSTART;TZID=America/Chicago:20220108T090000
DTEND;TZID=America/Chicago:20220108T100000
DTSTAMP:20260424T164010
CREATED:20210324T184754Z
LAST-MODIFIED:20210324T184754Z
UID:2825-1641632400-1641636000@thenoblequilter.com
SUMMARY:Summer Moon
DESCRIPTION:Join Michaela from 9 to 10 a.m. for tips tricks\, and best practices for our Summer Moon block of the month. The cost is $29.99 per month and includes fabric for the top and binding. The pattern is sold separately.
URL:https://thenoblequilter.com/event/summer-moon-2022-01-08/
LOCATION:The Noble Quilter\, 19570 Holt Street NW\, Elk River\, MN\, 55330
CATEGORIES:Block of the Month,Class
ATTACH;FMTTYPE=image/jpeg:https://thenoblequilter.com/wp-content/uploads/2021/03/summer-moon_final-edit.jpg
END:VEVENT
BEGIN:VEVENT
DTSTART;TZID=America/Chicago:20210410T090000
DTEND;TZID=America/Chicago:20210410T100000
DTSTAMP:20260424T164010
CREATED:20210324T184754Z
LAST-MODIFIED:20210324T184754Z
UID:2815-1618045200-1618048800@thenoblequilter.com
SUMMARY:Summer Moon
DESCRIPTION:Join Michaela from 9 to 10 a.m. for tips tricks\, and best practices for our Summer Moon block of the month. The cost is $29.99 per month and includes fabric for the top and binding. The pattern is sold separately.
URL:https://thenoblequilter.com/event/summer-moon/
LOCATION:The Noble Quilter\, 19570 Holt Street NW\, Elk River\, MN\, 55330
CATEGORIES:Block of the Month,Class
ATTACH;FMTTYPE=image/jpeg:https://thenoblequilter.com/wp-content/uploads/2021/03/summer-moon_final-edit.jpg
END:VEVENT
END:VCALENDAR