BEGIN:VCALENDAR
VERSION:2.0
PRODID:-//The Noble Quilter - ECPv6.15.18//NONSGML v1.0//EN
CALSCALE:GREGORIAN
METHOD:PUBLISH
X-ORIGINAL-URL:https://thenoblequilter.com
X-WR-CALDESC:Events for The Noble Quilter
REFRESH-INTERVAL;VALUE=DURATION:PT1H
X-Robots-Tag:noindex
X-PUBLISHED-TTL:PT1H
BEGIN:VTIMEZONE
TZID:America/Chicago
BEGIN:DAYLIGHT
TZOFFSETFROM:-0600
TZOFFSETTO:-0500
TZNAME:CDT
DTSTART:20230312T080000
END:DAYLIGHT
BEGIN:STANDARD
TZOFFSETFROM:-0500
TZOFFSETTO:-0600
TZNAME:CST
DTSTART:20231105T070000
END:STANDARD
BEGIN:DAYLIGHT
TZOFFSETFROM:-0600
TZOFFSETTO:-0500
TZNAME:CDT
DTSTART:20240310T080000
END:DAYLIGHT
BEGIN:STANDARD
TZOFFSETFROM:-0500
TZOFFSETTO:-0600
TZNAME:CST
DTSTART:20241103T070000
END:STANDARD
BEGIN:DAYLIGHT
TZOFFSETFROM:-0600
TZOFFSETTO:-0500
TZNAME:CDT
DTSTART:20250309T080000
END:DAYLIGHT
BEGIN:STANDARD
TZOFFSETFROM:-0500
TZOFFSETTO:-0600
TZNAME:CST
DTSTART:20251102T070000
END:STANDARD
END:VTIMEZONE
BEGIN:VEVENT
DTSTART;VALUE=DATE:20240101
DTEND;VALUE=DATE:20240102
DTSTAMP:20260423T145328
CREATED:20231227T205949Z
LAST-MODIFIED:20231227T205949Z
UID:5030-1704067200-1704153599@thenoblequilter.com
SUMMARY:SHOP CLOSED - New Years Day
DESCRIPTION:Happy New Years!! We will be back opened on January 2nd. See you soon!
URL:https://thenoblequilter.com/event/shop-closed-new-years-day/
LOCATION:The Noble Quilter\, 19570 Holt Street NW\, Elk River\, MN\, 55330
CATEGORIES:Closed
END:VEVENT
BEGIN:VEVENT
DTSTART;TZID=America/Chicago:20240111T120000
DTEND;TZID=America/Chicago:20240111T160000
DTSTAMP:20260423T145328
CREATED:20231227T202107Z
LAST-MODIFIED:20231227T202107Z
UID:5004-1704974400-1704988800@thenoblequilter.com
SUMMARY:60-Degree Log Cabin
DESCRIPTION:Join Margie to learn how to make this Log Cabin topper from Studio 180. The finished topper is 33″ x 33″. The class cost is $40. The kit\, technique sheet and ruler are sold separately. Call or stop by today to sign up! Space is limited.
URL:https://thenoblequilter.com/event/60-degree-log-cabin/
LOCATION:The Noble Quilter\, 19570 Holt Street NW\, Elk River\, MN\, 55330
CATEGORIES:Class
ATTACH;FMTTYPE=image/jpeg:https://thenoblequilter.com/wp-content/uploads/2023/11/log-cabin.jpg
END:VEVENT
BEGIN:VEVENT
DTSTART;TZID=America/Chicago:20240114T100000
DTEND;TZID=America/Chicago:20240114T180000
DTSTAMP:20260423T145328
CREATED:20231227T201212Z
LAST-MODIFIED:20231227T201212Z
UID:4994-1705226400-1705255200@thenoblequilter.com
SUMMARY:Sunday Sew-In
DESCRIPTION:Come sit and sew the day away on your favorite project. Oh\, and don’t forget your slippers! The cost is $50 and includes lunch. Space is limited\, so call or stop by to sign up today!
URL:https://thenoblequilter.com/event/sunday-sew-in-3/
LOCATION:MN
CATEGORIES:Sew-In
END:VEVENT
BEGIN:VEVENT
DTSTART;TZID=America/Chicago:20240125T120000
DTEND;TZID=America/Chicago:20240125T160000
DTSTAMP:20260423T145328
CREATED:20231227T202740Z
LAST-MODIFIED:20240117T204805Z
UID:5011-1706184000-1706198400@thenoblequilter.com
SUMMARY:Strip Pieced Lemoyne Star
DESCRIPTION:Are you ready to advance your Lemoyne Star skills? Join Margie on Thursday\, January 25th to learn how to use the Rapid Fire Lemoyne Star ruler from Studio 180 to make this mesmerizing block. The class cost is $40. The ruler and technique sheet are sold separately. You will need to provide the basic sewing supplies and fabric. Call or stop by today to sign up! Space is limited.
URL:https://thenoblequilter.com/event/strip-pieced-lemoyne-star/
LOCATION:The Noble Quilter\, 19570 Holt Street NW\, Elk River\, MN\, 55330
CATEGORIES:Class
ATTACH;FMTTYPE=image/webp:https://thenoblequilter.com/wp-content/uploads/2023/12/20240116_143056-scaled.webp
END:VEVENT
BEGIN:VEVENT
DTSTART;TZID=America/Chicago:20240128T100000
DTEND;TZID=America/Chicago:20240128T180000
DTSTAMP:20260423T145328
CREATED:20231227T201300Z
LAST-MODIFIED:20231227T202216Z
UID:4996-1706436000-1706464800@thenoblequilter.com
SUMMARY:Sunday Sew-In
DESCRIPTION:Come sit and sew the day away on your favorite project. Oh\, and don’t forget your slippers! The cost is $50 and includes lunch. Space is limited\, so call or stop by to sign up today!
URL:https://thenoblequilter.com/event/sunday-sew-in-4/
LOCATION:The Noble Quilter\, 19570 Holt Street NW\, Elk River\, MN\, 55330
CATEGORIES:Sew-In
END:VEVENT
END:VCALENDAR